BEGIN:VCALENDAR
VERSION:2.0
PRODID:icalendar-ruby
CALSCALE:GREGORIAN
BEGIN:VEVENT
DTSTAMP:20260421T192306Z
UID:eb7293af-9917-41f6-bfe2-151612179750
DTSTART;VALUE=DATE:20240926
DESCRIPTION:Property ID# 580466\, Locatoin: 2/153 Karori Road\, Wellington\
 , Time: 12:00PM
SUMMARY:Auction for 
END:VEVENT
END:VCALENDAR
