BEGIN:VCALENDAR
VERSION:2.0
PRODID:icalendar-ruby
CALSCALE:GREGORIAN
BEGIN:VEVENT
DTSTAMP:20260421T163423Z
UID:62769ee7-5323-40e0-bfb9-a35ee59a1fcc
DTSTART;VALUE=DATE:20241010
DESCRIPTION:Property ID# 581071\, Locatoin: 2/153 Karori Road\, Wellington\
 , Time: 12:00PM
SUMMARY:Auction for 
END:VEVENT
END:VCALENDAR
