BEGIN:VCALENDAR
VERSION:2.0
PRODID:icalendar-ruby
CALSCALE:GREGORIAN
BEGIN:VEVENT
DTSTAMP:20260421T163628Z
UID:4aade896-f6ed-49f1-a248-3cb627355324
DTSTART;VALUE=DATE:20241205
DESCRIPTION:Property ID# 584397\, Locatoin: 2/153 Karori Road\, Wellington\
 , Time: 12:00PM
SUMMARY:Auction for 
END:VEVENT
END:VCALENDAR
