BEGIN:VCALENDAR
VERSION:2.0
PRODID:icalendar-ruby
CALSCALE:GREGORIAN
BEGIN:VEVENT
DTSTAMP:20260421T165746Z
UID:e360fb26-a239-40c9-94c1-311c98ad643c
DTSTART;VALUE=DATE:20250123
DESCRIPTION:Property ID# 585761\, Locatoin: 2/153 Karori Road\, Wellington\
 , Time: 12:00PM
SUMMARY:Auction for 
END:VEVENT
END:VCALENDAR
