BEGIN:VCALENDAR
VERSION:2.0
PRODID:icalendar-ruby
CALSCALE:GREGORIAN
BEGIN:VEVENT
DTSTAMP:20260423T084700Z
UID:80505046-9c67-4653-9e75-baf44b629f15
DTSTART;VALUE=DATE:20250529
DESCRIPTION:Property ID# 592335\, Locatoin: Harcourts Wellington City Offic
 e at 57 Vivian Street\, Te Aro\, Wellington 6011\, Time: 12:00PM
SUMMARY:Auction for 
END:VEVENT
END:VCALENDAR
