BEGIN:VCALENDAR
VERSION:2.0
PRODID:icalendar-ruby
CALSCALE:GREGORIAN
BEGIN:VEVENT
DTSTAMP:20260421T104244Z
UID:217ca003-efc3-49d1-bb27-055bdad3b5d3
DTSTART;VALUE=DATE:20250703
DESCRIPTION:Property ID# 593889\, Locatoin: 8 Kent Terrace\, Wellington (wi
 ll not be sold prior)\, Time: 1:00PM
SUMMARY:Auction for 
END:VEVENT
END:VCALENDAR
