BEGIN:VCALENDAR
VERSION:2.0
PRODID:icalendar-ruby
CALSCALE:GREGORIAN
BEGIN:VEVENT
DTSTAMP:20260421T170751Z
UID:9381aa05-d1a5-4a02-ab6e-1b27ad56866f
DTSTART;VALUE=DATE:20250925
DESCRIPTION:Property ID# 596938\, Locatoin: 2/153 Karori Road\, Wellington\
 , Time: 12:00PM
SUMMARY:Auction for 
END:VEVENT
END:VCALENDAR
