BEGIN:VCALENDAR
VERSION:2.0
PRODID:icalendar-ruby
CALSCALE:GREGORIAN
BEGIN:VEVENT
DTSTAMP:20260421T193841Z
UID:094b5ad2-7f3c-40c3-b082-4b7cbdb500a9
DTSTART;VALUE=DATE:20251009
DESCRIPTION:Property ID# 597468\, Locatoin: 8 Kent Terrace\, Wellington \, 
 Time: 2:00PM
SUMMARY:Auction for 
END:VEVENT
END:VCALENDAR
