BEGIN:VCALENDAR
VERSION:2.0
PRODID:icalendar-ruby
CALSCALE:GREGORIAN
BEGIN:VEVENT
DTSTAMP:20260421T192018Z
UID:98e64c2f-b3ab-4801-982e-432d6e07a4c4
DTSTART;VALUE=DATE:20251210
DESCRIPTION:Property ID# 600338\, Locatoin: 8 Kent Terrace\, Wellington (wi
 ll  not be sold prior)\, Time: 12:00PM
SUMMARY:Auction for 
END:VEVENT
END:VCALENDAR
