BEGIN:VCALENDAR
VERSION:2.0
PRODID:icalendar-ruby
CALSCALE:GREGORIAN
BEGIN:VEVENT
DTSTAMP:20260421T191920Z
UID:38435b75-7988-467e-942c-edb068acc543
DTSTART;VALUE=DATE:20260129
DESCRIPTION:Property ID# 601313\, Locatoin: 8 Kent Terrace\, Wellington (wi
 ll not be sold prior)\, Time: 1:00PM
SUMMARY:Auction for 
END:VEVENT
END:VCALENDAR
