BEGIN:VCALENDAR
VERSION:2.0
PRODID:icalendar-ruby
CALSCALE:GREGORIAN
BEGIN:VEVENT
DTSTAMP:20260421T192109Z
UID:ddf3d568-aacf-44c4-a9b5-60330b935b7c
DTSTART;VALUE=DATE:20260204
DESCRIPTION:Property ID# 601467\, Locatoin: 8 Kent Terrace\, Wellington (wi
 ll not be sold prior)\, Time: 12:00PM
SUMMARY:Auction for 
END:VEVENT
END:VCALENDAR
