BEGIN:VCALENDAR
VERSION:2.0
PRODID:icalendar-ruby
CALSCALE:GREGORIAN
BEGIN:VEVENT
DTSTAMP:20260421T095202Z
UID:cc21eb19-b713-4dad-9b2d-60b2b5593af1
DTSTART;VALUE=DATE:20260429
DESCRIPTION:Property ID# 606482\, Locatoin: 8 Kent Terrace\, Wellington (wi
 ll not be sold prior)\, Time: 1:00PM
SUMMARY:Auction for 385 Karaka Bay Road
END:VEVENT
END:VCALENDAR
