BEGIN:VCALENDAR
VERSION:2.0
PRODID:icalendar-ruby
CALSCALE:GREGORIAN
BEGIN:VEVENT
DTSTAMP:20260421T075431Z
UID:6fd23c6f-21c7-48bf-9f01-f478d822e11a
DTSTART;TZID=Pacific/Auckland:20260419T133000
DTEND;TZID=Pacific/Auckland:20260419T140000
DESCRIPTION:Property ID# 606497
SUMMARY:Openhome for 502/120 Victoria Street
END:VEVENT
END:VCALENDAR
